BEGIN:VCALENDAR
VERSION:2.0
PRODID:-//Tukios.com/
BEGIN:VEVENT
UID:86a79f49-cc4f-44f0-acc0-248050ed7a5f@www.harris-hanlonmortuary.com
DTSTAMP:20260423T012834Z
DTSTART:20260425T163000Z
DTEND:20260425T173000Z
SUMMARY:Graveside Service
DESCRIPTION:
URL:https://www.harris-hanlonmortuary.com/obituaries/gloria-camacho
LOCATION:Mountainair Cemetery  Red Bluff Road  Mountainair NM 87036
GEO:34.5153486;-106.2768548
END:VEVENT
END:VCALENDAR