BEGIN:VCALENDAR
VERSION:2.0
PRODID:-//Tukios.com/
BEGIN:VEVENT
UID:2aa14118-800b-43f9-8bcb-88c690ab6c2c@www.harris-hanlonmortuary.com
DTSTAMP:20260423T012606Z
DTSTART:20260425T153000Z
DTEND:20260425T163000Z
SUMMARY:Mass
DESCRIPTION:
URL:https://www.harris-hanlonmortuary.com/obituaries/gloria-camacho
LOCATION:St. Alice Catholic Church 807 Central Avenue  Moriarty NM 87035
GEO:35.0059029;-106.0533477
END:VEVENT
END:VCALENDAR