BEGIN:VCALENDAR
VERSION:2.0
PRODID:-//Tukios.com/
BEGIN:VEVENT
UID:30c9b02e-286b-4f7d-abca-97d4b5ab6814@www.harris-hanlonmortuary.com
DTSTAMP:20260423T012855Z
DTSTART:20260425T143000Z
DTEND:20260425T150000Z
SUMMARY:Viewing
DESCRIPTION:
URL:https://www.harris-hanlonmortuary.com/obituaries/gloria-camacho
LOCATION:St. Alice Catholic Church 807 Central Avenue  Moriarty NM 87035
GEO:35.0059029;-106.0533477
END:VEVENT
END:VCALENDAR