BEGIN:VCALENDAR
VERSION:2.0
PRODID:-//Tukios.com/
BEGIN:VEVENT
UID:10795682-a4a8-44b7-9225-4501de70e818@www.harris-hanlonmortuary.com
DTSTAMP:20260423T013059Z
DTSTART:20260425T143000Z
DTEND:20260425T153000Z
SUMMARY:Celebration of Life
DESCRIPTION:
URL:https://www.harris-hanlonmortuary.com/obituaries/gloria-camacho
LOCATION:St. Alice Catholic Church 807 Central Avenue  Moriarty NM 87035
GEO:35.0059029;-106.0533477
END:VEVENT
END:VCALENDAR